BEGIN:VCALENDAR
VERSION:2.0
PRODID:-//Connecticut Chapter of the American College of Cardiology - ECPv6.15.18//NONSGML v1.0//EN
CALSCALE:GREGORIAN
METHOD:PUBLISH
X-ORIGINAL-URL:https://www.ccacc.org
X-WR-CALDESC:Events for Connecticut Chapter of the American College of Cardiology
REFRESH-INTERVAL;VALUE=DURATION:PT1H
X-Robots-Tag:noindex
X-PUBLISHED-TTL:PT1H
BEGIN:VTIMEZONE
TZID:America/New_York
BEGIN:DAYLIGHT
TZOFFSETFROM:-0500
TZOFFSETTO:-0400
TZNAME:EDT
DTSTART:20240310T070000
END:DAYLIGHT
BEGIN:STANDARD
TZOFFSETFROM:-0400
TZOFFSETTO:-0500
TZNAME:EST
DTSTART:20241103T060000
END:STANDARD
BEGIN:DAYLIGHT
TZOFFSETFROM:-0500
TZOFFSETTO:-0400
TZNAME:EDT
DTSTART:20250309T070000
END:DAYLIGHT
BEGIN:STANDARD
TZOFFSETFROM:-0400
TZOFFSETTO:-0500
TZNAME:EST
DTSTART:20251102T060000
END:STANDARD
BEGIN:DAYLIGHT
TZOFFSETFROM:-0500
TZOFFSETTO:-0400
TZNAME:EDT
DTSTART:20260308T070000
END:DAYLIGHT
BEGIN:STANDARD
TZOFFSETFROM:-0400
TZOFFSETTO:-0500
TZNAME:EST
DTSTART:20261101T060000
END:STANDARD
BEGIN:DAYLIGHT
TZOFFSETFROM:-0500
TZOFFSETTO:-0400
TZNAME:EDT
DTSTART:20270314T070000
END:DAYLIGHT
BEGIN:STANDARD
TZOFFSETFROM:-0400
TZOFFSETTO:-0500
TZNAME:EST
DTSTART:20271107T060000
END:STANDARD
END:VTIMEZONE
BEGIN:VEVENT
DTSTART;TZID=America/New_York:20251204T073000
DTEND;TZID=America/New_York:20251204T170000
DTSTAMP:20260421T194617
CREATED:20251120T183825Z
LAST-MODIFIED:20251120T213334Z
UID:3231620-1764833400-1764867600@www.ccacc.org
SUMMARY:Cardiovascular Risk Reduction Course
DESCRIPTION:21st Annual The Irwin D. Mandel Advances in Cardiovascular Risk Reduction: Optimizing Therapies for Cardiometabolic Health\nNYU Langone Health\, 550 First Ave\nNew York\, NY\nUnited States\nDecember 4\, 2025 7:30 AM – 5:00 PM \n  \nThis one-day course will cover state-of-the-art management of patients with cardiovascular risk factors. The course will highlight evidence-based recommendations for the management of patients with cardiovascular risk factors including those with co-morbidities such as diabetes\, hypertension\, obesity and heart failure. A special research presentation on obesity\, fat and lipid homeostasis will highlight important ongoing research in the overlap between obesity and cardiovascular disease. The course will provide updates on the role of revascularization\, highlighting the ongoing ISCHEMIA trial. Select presentations will take a deep dive into the importance of SGLT2 and PSCK9 inhibitors in treating cardiovascular risk in patients with or without diabetes. Future therapies targeting biomarkers such as lipoprotein (a) will be discussed\, including newly approved therapies targeting ApoC3 in Familial Chylomicronemia Syndrome (FCS) and ANGPTL3 in homozygous familial hypercholesterolemia (HoFH). Participants will also be updated on non-invasive imaging plaque imaging techniques. \nAttendees will participate in an hour-long case conference with challenging cases in cardiovascular disease risk reduction from a preventive cardiology clinic. The course includes morning and afternoon panel discussion segments including an audience question and answer time. \nThis course is designed to provide an informative and practical guide towards the clinical management of cardiovascular risk factors. This course is designed to bolster the clinician’s approach to prevent\, diagnose and treat cardiovascular risk factors. \n  \nThis course will be live-streamed and offered in-person. \nJointly provided by the NYU Grossman School of Medicine and the New York Chapter American College of Physicians. \n\nOrganized by the Center for the Prevention of Cardiovascular Disease\, the Division of Cardiology\, and the Division of Endocrinology\, Diabetes and Metabolism \n 
URL:https://www.ccacc.org/event/cardiovascular-risk-reduction-course/
LOCATION:NYU Langone Health\, 550 First Ave\, New York\, NY\, United States
ATTACH;FMTTYPE=image/png:https://www.ccacc.org/wp-content/uploads/2025/11/nyu-langone.png
END:VEVENT
BEGIN:VEVENT
DTSTART;VALUE=DATE:20260116
DTEND;VALUE=DATE:20260119
DTSTAMP:20260421T194617
CREATED:20260115T004137Z
LAST-MODIFIED:20260115T004329Z
UID:3231795-1768521600-1768780799@www.ccacc.org
SUMMARY:Masters of Medicine Medical Conferences
DESCRIPTION:
URL:https://www.ccacc.org/event/masters-of-medicine-medical-conferences/
END:VEVENT
BEGIN:VEVENT
DTSTART;TZID=America/New_York:20260121T100000
DTEND;TZID=America/New_York:20260121T170000
DTSTAMP:20260421T194617
CREATED:20251222T132518Z
LAST-MODIFIED:20251222T133411Z
UID:3231752-1768989600-1769014800@www.ccacc.org
SUMMARY:1st Annual Northeast Regional Cardiology Interest Group (CIG) Medical Student Conference
DESCRIPTION:Registration & Submission Guidelines\n  \nWho: All ACC Affiliated CIGs in the Northeast \nWhat: The 1st ever conference of its kind. Run by medical students\, for medical students. \nWhen: Saturday\, January 31st\, 2025\, 10am to 5pm \nWhere: Frank H. Netter MD School of Medicine at Quinnipiac University\, 370 Bassett Rd\, North Haven CT\, 06473 \nWhy: To grow the medical student cardiology community in the Northeastern US and beyond\, to forge connections and collaboration between medical students\, and to highlight each other’s accomplishments to date. \nHow: https://forms.gle/tRDq9g2NfEf6NDTA6 \nLeadership Team:  \nConference Leaders  \n\nAnthony Tristani\, ACC MSLG\, Quinnipiac University\nGiuliana Mertz\, ACC MSLG\, Albany Medical College\n\nContact with Questions:\nAnthony Tristani\, ACC MSLG\, anthony.tristani@quinnipiac.edu\nACC MSLG\, acc.medstudent@gmail.com
URL:https://www.ccacc.org/event/1st-annual-northeast-regional-cardiology-interest-group-cig-medical-student-conference/
END:VEVENT
BEGIN:VEVENT
DTSTART;TZID=America/New_York:20260211T183000
DTEND;TZID=America/New_York:20260211T183000
DTSTAMP:20260421T194617
CREATED:20260120T233121Z
LAST-MODIFIED:20260123T024631Z
UID:3231820-1770834600-1770834600@www.ccacc.org
SUMMARY:CIED Case Study Meeting 6:30 pm
DESCRIPTION:Moderators: Mary Johnston\, APRN & Dr. Craig McPherson \nJoin us for this live discussion – we welcome all makes and models of CIED and seek to discuss any patient issue\, device feature or function of concern to device clinicians! \nPlease send device interrogations to Mary Johnston\, APRN at mary.johnston104@yahoo.com or to Dr. Brain Malm at brian.malm@yale.edu. \nYou can choose to present your case or we are happy to lead the way! \nAll levels of inquiry are welcome – from basic EGM & programming interpretation to complex arrhythmias and treatment. \nJoin us on zoom:\nhttps://us06web.zoom.us/j/81330754566 \nPlease contact Mary Johnston\, APRN at mary.johnston104@yahoo.com with any questions! \n  \nRegister Here
URL:https://www.ccacc.org/event/cied-case-study-meeting-2/
CATEGORIES:CIED
END:VEVENT
BEGIN:VEVENT
DTSTART;TZID=America/New_York:20260225T210000
DTEND;TZID=America/New_York:20260225T210000
DTSTAMP:20260421T194617
CREATED:20260107T032755Z
LAST-MODIFIED:20260222T194108Z
UID:3231783-1772053200-1772053200@www.ccacc.org
SUMMARY:Call for Abstracts & Poster Submission Guidelines - Deadline Extended to Feb. 25th
DESCRIPTION:Trainees (residents\, fellows\, and trainees in postgraduate nursing or physician assistant programs) from all programs in Connecticut are invited to submit an abstract for the poster session at the 2026 Connecticut Chapter of the American College of Cardiology annual meeting\, which will be held on 4/29/26\, at the Waterview in Monroe\, CT. Abstracts may be submitted in one of two categories: original research (basic\, translational\, or clinical) or case vignettes. Accepted abstracts will be presented as a poster or oral presentation. \nSubmission Guidelines: \n\nThe first (presenting) author MUST be a fellow or resident in a Connecticut-based training program (trainees from any specialty or subspecialty may submit) or a trainee in a Connecticut-based postgraduate nursing or physician assistant program\nOnly ONE abstract per category may be submitted by a presenting author\nBecause this is a regional meeting\, abstracts submitted for national meetings (e.g.\, ACC\, AHA\, HRS) may be submitted to this meeting and abstracts submitted and not accepted at CCACC 2024 may be submitted again\nPlease submit abstracts as a PDF file\nPlease use Arial font (11-12 pt) and 1-inch margins on the top\, bottom and sides of the abstract\nThere is a ONE-PAGE limit for the abstract\nThe first line of the abstract should contain the title of the abstract in all capital letters\nThe second line of the abstract should include the names and highest degrees for all authors with superscript numbers indicating hospital/program affiliations\nThe first listed author MUST be the presenting author\nThe third line of the abstract should list the affiliations indicated by the superscripts\nThe fourth line should indicate the category for the abstract: “Original research” or “Case vignettes”\nThe body of the abstract begins on the next line\nFigures and/or tables may be included but the entire submission must not extend beyond one page\nThere must be no protected health information (PHI) present in the abstract (or the subsequent poster)\n\n  \nPlease submit your abstract to oxford abstracts using the link below:\nhttps://app.oxfordabstracts.com/stages/80791/submitter \n  \nIf you have any issues submitting through the above link please email:  stephanie.saucier@hhchealth.org\n(Stephanie Saucier MD) \n  \n\nPlease include in the subject line of the email: “CCACC Abstract submission”\nAuthors will be notified if their abstract has been accepted for presentation in mid-March 2026\nFailure to follow the guidelines above will result in abstract disqualification\n The deadline for abstract submission has been extended to\, February 25\, 2026 at 9:00 PM \nAbstracts not submitted to the online platform will not be considered\n\n  \nQuestions may be addressed to Stephanie Saucier\, MD  stephanie.saucier@hhchealth.org
URL:https://www.ccacc.org/event/2026-annual-meeting-abstract-poster-submission-guidelines/
CATEGORIES:Annual Meeting
END:VEVENT
BEGIN:VEVENT
DTSTART;TZID=America/New_York:20260311T120000
DTEND;TZID=America/New_York:20260311T120000
DTSTAMP:20260421T194617
CREATED:20260223T152945Z
LAST-MODIFIED:20260223T154711Z
UID:3231929-1773230400-1773230400@www.ccacc.org
SUMMARY:March CIED Case Study Meeting 12:00 pm
DESCRIPTION:We invite you to join us for our next two scheduled Case Study Meetings on Zoom. \nPlease consider submitting a case for review\nWe welcome discussion around device features & functions\, arrhythmia analysis\, device indication and patient management. All levels of inquiry are appropriate – from core concepts to advanced analyses. \nSubmit your case to Mary Johnston\, APRN at mary.johnston104@yahoo.com or to Dr. Brain Malm at brian.malm@yale.edu. \n—- \nPlease register\nyou may register for one or both times. \n  \nRegister Here\n  \nJoin us on zoom:\nhttps://us06web.zoom.us/j/81573834133 \nContact Mary Johnston\, APRN at mary.johnston104@yahoo.com with any questions! \n—-
URL:https://www.ccacc.org/event/cied-case-study-meeting-1200-pm/
CATEGORIES:CIED
END:VEVENT
BEGIN:VEVENT
DTSTART;TZID=America/New_York:20260311T183000
DTEND;TZID=America/New_York:20260311T183000
DTSTAMP:20260421T194617
CREATED:20260223T153416Z
LAST-MODIFIED:20260223T154619Z
UID:3231934-1773253800-1773253800@www.ccacc.org
SUMMARY:March CIED Case Study Meeting 6:30 pm
DESCRIPTION:We invite you to join us for our next two scheduled Case Study Meetings on Zoom. \nPlease consider submitting a case for review\nWe welcome discussion around device features & functions\, arrhythmia analysis\, device indication and patient management. All levels of inquiry are appropriate – from core concepts to advanced analyses. \nSubmit your case to Mary Johnston\, APRN at mary.johnston104@yahoo.com or to Dr. Brain Malm at brian.malm@yale.edu. \n—- \nPlease register\nyou may register for one or both times. \n  \nRegister Here\n  \nJoin us on zoom:\nhttps://us06web.zoom.us/j/85470008795?pwd=zCkFljAdedXUgG4R0SBztaeuz07lER.1 \nContact Mary Johnston\, APRN at mary.johnston104@yahoo.com with any questions! \n—-
URL:https://www.ccacc.org/event/march-cied-case-study-meeting-630-pm/
CATEGORIES:CIED
END:VEVENT
BEGIN:VEVENT
DTSTART;TZID=America/New_York:20260325T170000
DTEND;TZID=America/New_York:20260325T190000
DTSTAMP:20260421T194617
CREATED:20260311T004549Z
LAST-MODIFIED:20260311T234842Z
UID:3231991-1774458000-1774465200@www.ccacc.org
SUMMARY:CTSE - Advances in Structural Cardiology and 3D Echocardiography
DESCRIPTION:Presented by:\nAndrea Nicol\, RDCS and Miles Shen\, MD \nHosted By:\nHeart and Vascular Center\, Yale New Haven Health \nWhen:\nWednesday\, March 25th\, 2026\n5:00 PM- 7:00 PM \nWhere:\nYale New Haven Hospital\nBrady Auditorium\, 310 Cedar Street\nYale University\, New Haven CT \nIn Person with a Reception to Follow and Virtual (Hybrid) Meeting \nRegister Below\nhttps://events.teams.microsoft.com/event/c2a194e7-a910-4dc1-bae2-4ab5d1ce69a3@0d91e619-4a2c-4c80-b959-8fdf518e52e8 \nRegister with the QR Code Below or Link Above \n \nAny Questions Please Email Steve Walling or Ian Crandall @ Swalling@trinityhealthofne.org or Ian.crandall@ynhh.org \nThis presentation is approved for 2 SDMS CME’s provided by the Hoffman Heart and Vascular Institute School of Cardiovascular Technology
URL:https://www.ccacc.org/event/advances-in-structural-cardiology-and-3d-echocardiography/
END:VEVENT
BEGIN:VEVENT
DTSTART;TZID=America/New_York:20260409T120000
DTEND;TZID=America/New_York:20260409T130000
DTSTAMP:20260421T194617
CREATED:20260223T155352Z
LAST-MODIFIED:20260313T150902Z
UID:3231951-1775736000-1775739600@www.ccacc.org
SUMMARY:April 9th CIED Case Study Meeting 12:00 pm
DESCRIPTION:We invite you to join us for our next CIED Section Case Study Meeting! \nPlease consider submitting a case for review\nWe welcome discussion around device features & functions\, arrhythmia analysis\, device indication and patient management. All levels of inquiry are appropriate – from core concepts to advanced analyses. \nSubmit your case to Mary Johnston\, APRN at mary.johnston104@yahoo.com or to Dr. Brain Malm at brian.malm@yale.edu. \n—- \nPlease register!!\n \n  \nRegister Here\n\n  \nJoin us on zoom: \nhttps://us06web.zoom.us/j/83669382887 \n  \nContact Mary Johnston\, APRN at mary.johnston104@yahoo.com with any questions
URL:https://www.ccacc.org/event/april-cied-case-study-meeting-1200-pm/
CATEGORIES:CIED
END:VEVENT
BEGIN:VEVENT
DTSTART;TZID=America/New_York:20260424T080000
DTEND;TZID=America/New_York:20260424T170000
DTSTAMP:20260421T194617
CREATED:20260107T033513Z
LAST-MODIFIED:20260121T151818Z
UID:3231788-1777017600-1777050000@www.ccacc.org
SUMMARY:NYU Langone Cardio-Inflammation Conference
DESCRIPTION:CME ACCREDITATION STATEMENT\nThis activity has been planned and implemented in accordance with the accreditation requirements and policies of the Accreditation Council for Continuing Medical Education (ACCME) through the joint providership of the NYU Grossman School of Medicine and New York Chapter American College of Physicians. The NYU Grossman School of Medicine is accredited by the ACCME to provide continuing medical education for physicians.\n\nCREDIT DESIGNATION STATEMENT\nThe NYU Grossman School of Medicine designates this live activity for a maximum of 7 AMA PRA Category 1 Credits™. Physicians should claim only the credit commensurate with the extent of their participation in the activity.
URL:https://www.ccacc.org/event/nyu-langone-cardio-conference/
END:VEVENT
BEGIN:VEVENT
DTSTART;TZID=America/New_York:20260429T140000
DTEND;TZID=America/New_York:20260429T200000
DTSTAMP:20260421T194617
CREATED:20251120T184213Z
LAST-MODIFIED:20260320T144428Z
UID:3231624-1777471200-1777492800@www.ccacc.org
SUMMARY:CCACC Annual Meeting: April 29th\, 2026
DESCRIPTION:The Connecticut Chapter of the American College of Cardiology’s (CCACC) 34th Annual Meeting to be held Wednesday\, April 29th\, 2026\, 2:00 p.m. – 8:15 p.m. at the Waterview in Monroe\, Connecticut. \nDon’t miss this exciting opportunity to join your colleagues from the cardiology community across Connecticut and the New England region. The CCACC Annual Meeting program committee is in the process of selecting a keynote speaker and preparing proceedings details. More information and registration details to follow. \n  \nEvent Details\n  \nSincerely\, \nProgram Chairs:\nSara Tabtabai\, MD\, FACC\, CCACC President-Elect\nStephanie Saucier\, MD\, FACC
URL:https://www.ccacc.org/event/34th-annual-meeting-april-29th-2026/
LOCATION:Waterview\, Monroe\, Connecticut\, United States
ATTACH;FMTTYPE=image/jpeg:https://www.ccacc.org/wp-content/uploads/2025/11/save-the-date.jpg
END:VEVENT
BEGIN:VEVENT
DTSTART;TZID=America/New_York:20260529T090000
DTEND;TZID=America/New_York:20260529T163000
DTSTAMP:20260421T194617
CREATED:20260116T011028Z
LAST-MODIFIED:20260119T005107Z
UID:3231805-1780045200-1780072200@www.ccacc.org
SUMMARY:CCACC CIED Section & PrepMD Instructors present "Essentials of Cardiac Pacing"
DESCRIPTION:“CE credit application is pending \n  \nRegister Here
URL:https://www.ccacc.org/event/ccacc-cied-section-prepmd-instructors-present-essentials-of-cardiac-pacing/
LOCATION:Hilton Garden Inn\, Wallingford\, CT\, 1181 Barnes Rd\, Wallingford\, CT\, 06492\, United States
END:VEVENT
END:VCALENDAR