BEGIN:VCALENDAR
VERSION:2.0
PRODID:-//Connecticut Chapter of the American College of Cardiology - ECPv6.15.18//NONSGML v1.0//EN
CALSCALE:GREGORIAN
METHOD:PUBLISH
X-WR-CALNAME:Connecticut Chapter of the American College of Cardiology
X-ORIGINAL-URL:https://www.ccacc.org
X-WR-CALDESC:Events for Connecticut Chapter of the American College of Cardiology
REFRESH-INTERVAL;VALUE=DURATION:PT1H
X-Robots-Tag:noindex
X-PUBLISHED-TTL:PT1H
BEGIN:VTIMEZONE
TZID:America/New_York
BEGIN:DAYLIGHT
TZOFFSETFROM:-0500
TZOFFSETTO:-0400
TZNAME:EDT
DTSTART:20240310T070000
END:DAYLIGHT
BEGIN:STANDARD
TZOFFSETFROM:-0400
TZOFFSETTO:-0500
TZNAME:EST
DTSTART:20241103T060000
END:STANDARD
BEGIN:DAYLIGHT
TZOFFSETFROM:-0500
TZOFFSETTO:-0400
TZNAME:EDT
DTSTART:20250309T070000
END:DAYLIGHT
BEGIN:STANDARD
TZOFFSETFROM:-0400
TZOFFSETTO:-0500
TZNAME:EST
DTSTART:20251102T060000
END:STANDARD
BEGIN:DAYLIGHT
TZOFFSETFROM:-0500
TZOFFSETTO:-0400
TZNAME:EDT
DTSTART:20260308T070000
END:DAYLIGHT
BEGIN:STANDARD
TZOFFSETFROM:-0400
TZOFFSETTO:-0500
TZNAME:EST
DTSTART:20261101T060000
END:STANDARD
BEGIN:DAYLIGHT
TZOFFSETFROM:-0500
TZOFFSETTO:-0400
TZNAME:EDT
DTSTART:20270314T070000
END:DAYLIGHT
BEGIN:STANDARD
TZOFFSETFROM:-0400
TZOFFSETTO:-0500
TZNAME:EST
DTSTART:20271107T060000
END:STANDARD
END:VTIMEZONE
BEGIN:VEVENT
DTSTART;VALUE=DATE:20260116
DTEND;VALUE=DATE:20260119
DTSTAMP:20260421T194618
CREATED:20260115T004137Z
LAST-MODIFIED:20260115T004329Z
UID:3231795-1768521600-1768780799@www.ccacc.org
SUMMARY:Masters of Medicine Medical Conferences
DESCRIPTION:
URL:https://www.ccacc.org/event/masters-of-medicine-medical-conferences/
END:VEVENT
BEGIN:VEVENT
DTSTART;TZID=America/New_York:20251204T073000
DTEND;TZID=America/New_York:20251204T170000
DTSTAMP:20260421T194618
CREATED:20251120T183825Z
LAST-MODIFIED:20251120T213334Z
UID:3231620-1764833400-1764867600@www.ccacc.org
SUMMARY:Cardiovascular Risk Reduction Course
DESCRIPTION:21st Annual The Irwin D. Mandel Advances in Cardiovascular Risk Reduction: Optimizing Therapies for Cardiometabolic Health\nNYU Langone Health\, 550 First Ave\nNew York\, NY\nUnited States\nDecember 4\, 2025 7:30 AM – 5:00 PM \n  \nThis one-day course will cover state-of-the-art management of patients with cardiovascular risk factors. The course will highlight evidence-based recommendations for the management of patients with cardiovascular risk factors including those with co-morbidities such as diabetes\, hypertension\, obesity and heart failure. A special research presentation on obesity\, fat and lipid homeostasis will highlight important ongoing research in the overlap between obesity and cardiovascular disease. The course will provide updates on the role of revascularization\, highlighting the ongoing ISCHEMIA trial. Select presentations will take a deep dive into the importance of SGLT2 and PSCK9 inhibitors in treating cardiovascular risk in patients with or without diabetes. Future therapies targeting biomarkers such as lipoprotein (a) will be discussed\, including newly approved therapies targeting ApoC3 in Familial Chylomicronemia Syndrome (FCS) and ANGPTL3 in homozygous familial hypercholesterolemia (HoFH). Participants will also be updated on non-invasive imaging plaque imaging techniques. \nAttendees will participate in an hour-long case conference with challenging cases in cardiovascular disease risk reduction from a preventive cardiology clinic. The course includes morning and afternoon panel discussion segments including an audience question and answer time. \nThis course is designed to provide an informative and practical guide towards the clinical management of cardiovascular risk factors. This course is designed to bolster the clinician’s approach to prevent\, diagnose and treat cardiovascular risk factors. \n  \nThis course will be live-streamed and offered in-person. \nJointly provided by the NYU Grossman School of Medicine and the New York Chapter American College of Physicians. \n\nOrganized by the Center for the Prevention of Cardiovascular Disease\, the Division of Cardiology\, and the Division of Endocrinology\, Diabetes and Metabolism \n 
URL:https://www.ccacc.org/event/cardiovascular-risk-reduction-course/
LOCATION:NYU Langone Health\, 550 First Ave\, New York\, NY\, United States
ATTACH;FMTTYPE=image/png:https://www.ccacc.org/wp-content/uploads/2025/11/nyu-langone.png
END:VEVENT
BEGIN:VEVENT
DTSTART;TZID=America/New_York:20251203T173000
DTEND;TZID=America/New_York:20251203T203000
DTSTAMP:20260421T194618
CREATED:20251015T014452Z
LAST-MODIFIED:20251028T174924Z
UID:3231468-1764783000-1764793800@www.ccacc.org
SUMMARY:December CIED Case Study Meeting
DESCRIPTION:To view more information and register for this event follow this link.
URL:https://www.ccacc.org/event/december-cied-case-study-meeting/
LOCATION:Hilton Garden Inn\, Wallingford\, CT\, 1181 Barnes Rd\, Wallingford\, CT\, 06492\, United States
CATEGORIES:CIED
END:VEVENT
BEGIN:VEVENT
DTSTART;TZID=America/New_York:20251118T180000
DTEND;TZID=America/New_York:20251118T200000
DTSTAMP:20260421T194618
CREATED:20251105T180613Z
LAST-MODIFIED:20251106T032649Z
UID:3231572-1763488800-1763496000@www.ccacc.org
SUMMARY:CCACC CIED Section Journal Club on Zoom!
DESCRIPTION:CCACC CIED Section Journal Club on Zoom! \nTuesday\, November 18th at 6pm \n“SMART Pass automatic deactivation of subcutaneous implantable cardioverter-defibrillators” \nIshiwata\, et al\, Heart Rhythm 2025;22: 1255-1263 \nJoin us to learn about and discuss this important programmable feature of the Boston Scientific SICD. \nRegister Here:\nhttps://www.ccacc.org/cied/journal-club-registration/ \nAccess this link to review the article:\nhttps://www.ccacc.org/wp-content/uploads/2025/11/Smart-Pass-HRS-Journal-Article.pdf \nClick below to join the meeting:\nhttps://us06web.zoom.us/j/88027223829
URL:https://www.ccacc.org/event/ccacc-cied-section-journal-club-on-zoom-2/
CATEGORIES:CIED
END:VEVENT
BEGIN:VEVENT
DTSTART;TZID=America/New_York:20251104T080000
DTEND;TZID=America/New_York:20251104T170000
DTSTAMP:20260421T194618
CREATED:20251104T213136Z
LAST-MODIFIED:20251104T213305Z
UID:3231557-1762243200-1762275600@www.ccacc.org
SUMMARY:CCACC CIED Section Journal Club on Zoom!
DESCRIPTION:CCACC CIED Section Journal Club on Zoom! \nTuesday\, November 18th at 6pm \n“SMART Pass automatic deactivation of subcutaneous implantable cardioverter-defibrillators” \nIshiwata\, et al\, Heart Rhythm 2025;22: 1255-1263 \nJoin us to learn about and discuss this important programmable feature of the Boston Scientific SICD. \nAccess this link to review the article:\nhttps://www.ccacc.org/wp-content/uploads/2025/11/Smart-Pass-HRS-Journal-Article.pdf\n \nClick below to join the meeting:\nhttps://us06web.zoom.us/j/88027223829
URL:https://www.ccacc.org/event/ccacc-cied-section-journal-club-on-zoom/
CATEGORIES:CIED
ATTACH;FMTTYPE=image/png:https://www.ccacc.org/wp-content/uploads/2025/11/heart-rhythm-society.png
END:VEVENT
BEGIN:VEVENT
DTSTART;TZID=America/New_York:20251014T173000
DTEND;TZID=America/New_York:20251014T203000
DTSTAMP:20260421T194618
CREATED:20250827T024421Z
LAST-MODIFIED:20251004T192155Z
UID:3231396-1760463000-1760473800@www.ccacc.org
SUMMARY:In-Person CIED Case Study Dinner Meeting – Thursday\, Sept. 4\, 2025
DESCRIPTION:This educational meeting provides attendees with expert panel review of Boston Scientific CIED patient cases\, as submitted by meeting participants.
URL:https://www.ccacc.org/event/in-person-cied-case-study-dinner-meeting-thursday-sept-4-2025/
END:VEVENT
END:VCALENDAR