BEGIN:VCALENDAR
VERSION:2.0
PRODID:-//Connecticut Chapter of the American College of Cardiology - ECPv6.15.18//NONSGML v1.0//EN
CALSCALE:GREGORIAN
METHOD:PUBLISH
X-ORIGINAL-URL:https://www.ccacc.org
X-WR-CALDESC:Events for Connecticut Chapter of the American College of Cardiology
REFRESH-INTERVAL;VALUE=DURATION:PT1H
X-Robots-Tag:noindex
X-PUBLISHED-TTL:PT1H
BEGIN:VTIMEZONE
TZID:America/New_York
BEGIN:DAYLIGHT
TZOFFSETFROM:-0500
TZOFFSETTO:-0400
TZNAME:EDT
DTSTART:20250309T070000
END:DAYLIGHT
BEGIN:STANDARD
TZOFFSETFROM:-0400
TZOFFSETTO:-0500
TZNAME:EST
DTSTART:20251102T060000
END:STANDARD
BEGIN:DAYLIGHT
TZOFFSETFROM:-0500
TZOFFSETTO:-0400
TZNAME:EDT
DTSTART:20260308T070000
END:DAYLIGHT
BEGIN:STANDARD
TZOFFSETFROM:-0400
TZOFFSETTO:-0500
TZNAME:EST
DTSTART:20261101T060000
END:STANDARD
BEGIN:DAYLIGHT
TZOFFSETFROM:-0500
TZOFFSETTO:-0400
TZNAME:EDT
DTSTART:20270314T070000
END:DAYLIGHT
BEGIN:STANDARD
TZOFFSETFROM:-0400
TZOFFSETTO:-0500
TZNAME:EST
DTSTART:20271107T060000
END:STANDARD
END:VTIMEZONE
BEGIN:VEVENT
DTSTART;TZID=America/New_York:20260325T170000
DTEND;TZID=America/New_York:20260325T190000
DTSTAMP:20260421T132556
CREATED:20260311T004549Z
LAST-MODIFIED:20260311T234842Z
UID:3231991-1774458000-1774465200@www.ccacc.org
SUMMARY:CTSE - Advances in Structural Cardiology and 3D Echocardiography
DESCRIPTION:Presented by:\nAndrea Nicol\, RDCS and Miles Shen\, MD \nHosted By:\nHeart and Vascular Center\, Yale New Haven Health \nWhen:\nWednesday\, March 25th\, 2026\n5:00 PM- 7:00 PM \nWhere:\nYale New Haven Hospital\nBrady Auditorium\, 310 Cedar Street\nYale University\, New Haven CT \nIn Person with a Reception to Follow and Virtual (Hybrid) Meeting \nRegister Below\nhttps://events.teams.microsoft.com/event/c2a194e7-a910-4dc1-bae2-4ab5d1ce69a3@0d91e619-4a2c-4c80-b959-8fdf518e52e8 \nRegister with the QR Code Below or Link Above \n \nAny Questions Please Email Steve Walling or Ian Crandall @ Swalling@trinityhealthofne.org or Ian.crandall@ynhh.org \nThis presentation is approved for 2 SDMS CME’s provided by the Hoffman Heart and Vascular Institute School of Cardiovascular Technology
URL:https://www.ccacc.org/event/advances-in-structural-cardiology-and-3d-echocardiography/
END:VEVENT
END:VCALENDAR